BEGIN:VCALENDAR
VERSION:2.0
PRODID:-//Scarborough South Cliff Golf Club - ECPv6.15.18//NONSGML v1.0//EN
CALSCALE:GREGORIAN
METHOD:PUBLISH
X-WR-CALNAME:Scarborough South Cliff Golf Club
X-ORIGINAL-URL:https://www.southcliffgolfclub.com
X-WR-CALDESC:Events for Scarborough South Cliff Golf Club
REFRESH-INTERVAL;VALUE=DURATION:PT1H
X-Robots-Tag:noindex
X-PUBLISHED-TTL:PT1H
BEGIN:VTIMEZONE
TZID:UTC
BEGIN:STANDARD
TZOFFSETFROM:+0000
TZOFFSETTO:+0000
TZNAME:UTC
DTSTART:20240101T000000
END:STANDARD
END:VTIMEZONE
BEGIN:VEVENT
DTSTART;VALUE=DATE:20251002
DTEND;VALUE=DATE:20251003
DTSTAMP:20260425T173321
CREATED:20250123T114812Z
LAST-MODIFIED:20250123T114812Z
UID:10000079-1759363200-1759449599@www.southcliffgolfclub.com
SUMMARY:EGGS Open
DESCRIPTION:
URL:https://www.southcliffgolfclub.com/event/eggs-open/
END:VEVENT
BEGIN:VEVENT
DTSTART;VALUE=DATE:20251003
DTEND;VALUE=DATE:20251004
DTSTAMP:20260425T173321
CREATED:20250123T114917Z
LAST-MODIFIED:20250123T114917Z
UID:10000080-1759449600-1759535999@www.southcliffgolfclub.com
SUMMARY:Extra Competition
DESCRIPTION:
URL:https://www.southcliffgolfclub.com/event/extra-competition-15/
END:VEVENT
BEGIN:VEVENT
DTSTART;VALUE=DATE:20251004
DTEND;VALUE=DATE:20251005
DTSTAMP:20260425T173321
CREATED:20250123T114956Z
LAST-MODIFIED:20250123T114956Z
UID:10000081-1759536000-1759622399@www.southcliffgolfclub.com
SUMMARY:October Medal
DESCRIPTION:
URL:https://www.southcliffgolfclub.com/event/october-medal/
END:VEVENT
BEGIN:VEVENT
DTSTART;VALUE=DATE:20251012
DTEND;VALUE=DATE:20251013
DTSTAMP:20260425T173321
CREATED:20250123T115017Z
LAST-MODIFIED:20250123T115017Z
UID:10000082-1760227200-1760313599@www.southcliffgolfclub.com
SUMMARY:Gibson Bowl
DESCRIPTION:
URL:https://www.southcliffgolfclub.com/event/gibson-bowl/
END:VEVENT
BEGIN:VEVENT
DTSTART;VALUE=DATE:20251018
DTEND;VALUE=DATE:20251019
DTSTAMP:20260425T173321
CREATED:20250123T115040Z
LAST-MODIFIED:20250123T115040Z
UID:10000083-1760745600-1760831999@www.southcliffgolfclub.com
SUMMARY:October Stableford
DESCRIPTION:
URL:https://www.southcliffgolfclub.com/event/october-stableford/
END:VEVENT
BEGIN:VEVENT
DTSTART;VALUE=DATE:20251025
DTEND;VALUE=DATE:20251026
DTSTAMP:20260425T173321
CREATED:20250123T115109Z
LAST-MODIFIED:20250123T115109Z
UID:10000084-1761350400-1761436799@www.southcliffgolfclub.com
SUMMARY:Prizegiving Night
DESCRIPTION:
URL:https://www.southcliffgolfclub.com/event/prizegiving-night/
END:VEVENT
BEGIN:VEVENT
DTSTART;VALUE=DATE:20251026
DTEND;VALUE=DATE:20251027
DTSTAMP:20260425T173321
CREATED:20250123T115141Z
LAST-MODIFIED:20250123T115141Z
UID:10000085-1761436800-1761523199@www.southcliffgolfclub.com
SUMMARY:Kingsley Qualifier
DESCRIPTION:
URL:https://www.southcliffgolfclub.com/event/kingsley-qualifier/
END:VEVENT
END:VCALENDAR