BEGIN:VCALENDAR
VERSION:2.0
PRODID:-//Scarborough South Cliff Golf Club - ECPv6.15.18//NONSGML v1.0//EN
CALSCALE:GREGORIAN
METHOD:PUBLISH
X-WR-CALNAME:Scarborough South Cliff Golf Club
X-ORIGINAL-URL:https://www.southcliffgolfclub.com
X-WR-CALDESC:Events for Scarborough South Cliff Golf Club
REFRESH-INTERVAL;VALUE=DURATION:PT1H
X-Robots-Tag:noindex
X-PUBLISHED-TTL:PT1H
BEGIN:VTIMEZONE
TZID:UTC
BEGIN:STANDARD
TZOFFSETFROM:+0000
TZOFFSETTO:+0000
TZNAME:UTC
DTSTART:20240101T000000
END:STANDARD
END:VTIMEZONE
BEGIN:VEVENT
DTSTART;VALUE=DATE:20250803
DTEND;VALUE=DATE:20250804
DTSTAMP:20260425T140458
CREATED:20250123T090653Z
LAST-MODIFIED:20250123T090653Z
UID:10000053-1754179200-1754265599@www.southcliffgolfclub.com
SUMMARY:Club Championship
DESCRIPTION:
URL:https://www.southcliffgolfclub.com/event/club-championship/
END:VEVENT
BEGIN:VEVENT
DTSTART;VALUE=DATE:20250806
DTEND;VALUE=DATE:20250807
DTSTAMP:20260425T140458
CREATED:20250123T090725Z
LAST-MODIFIED:20250123T090725Z
UID:10000054-1754438400-1754524799@www.southcliffgolfclub.com
SUMMARY:Seniors Open Day
DESCRIPTION:
URL:https://www.southcliffgolfclub.com/event/seniors-open-day/
END:VEVENT
BEGIN:VEVENT
DTSTART;VALUE=DATE:20250808
DTEND;VALUE=DATE:20250809
DTSTAMP:20260425T140458
CREATED:20250123T090745Z
LAST-MODIFIED:20250123T090745Z
UID:10000055-1754611200-1754697599@www.southcliffgolfclub.com
SUMMARY:Extra Competition
DESCRIPTION:
URL:https://www.southcliffgolfclub.com/event/extra-competition-10/
END:VEVENT
BEGIN:VEVENT
DTSTART;VALUE=DATE:20250810
DTEND;VALUE=DATE:20250811
DTSTAMP:20260425T140458
CREATED:20250123T091006Z
LAST-MODIFIED:20250123T091006Z
UID:10000056-1754784000-1754870399@www.southcliffgolfclub.com
SUMMARY:Seniors Trophy
DESCRIPTION:
URL:https://www.southcliffgolfclub.com/event/seniors-trophy/
END:VEVENT
BEGIN:VEVENT
DTSTART;VALUE=DATE:20250814
DTEND;VALUE=DATE:20250815
DTSTAMP:20260425T140458
CREATED:20250123T091116Z
LAST-MODIFIED:20250123T091116Z
UID:10000057-1755129600-1755215999@www.southcliffgolfclub.com
SUMMARY:Past Captains Trophy
DESCRIPTION:
URL:https://www.southcliffgolfclub.com/event/past-captains-trophy/
END:VEVENT
BEGIN:VEVENT
DTSTART;VALUE=DATE:20250816
DTEND;VALUE=DATE:20250817
DTSTAMP:20260425T140458
CREATED:20250123T091138Z
LAST-MODIFIED:20250123T091138Z
UID:10000058-1755302400-1755388799@www.southcliffgolfclub.com
SUMMARY:August Medal
DESCRIPTION:
URL:https://www.southcliffgolfclub.com/event/august-medal/
END:VEVENT
BEGIN:VEVENT
DTSTART;VALUE=DATE:20250817
DTEND;VALUE=DATE:20250818
DTSTAMP:20260425T140458
CREATED:20250123T091201Z
LAST-MODIFIED:20250123T091201Z
UID:10000059-1755388800-1755475199@www.southcliffgolfclub.com
SUMMARY:Joe Nixon Trophy
DESCRIPTION:
URL:https://www.southcliffgolfclub.com/event/joe-nixon-trophy/
END:VEVENT
BEGIN:VEVENT
DTSTART;VALUE=DATE:20250820
DTEND;VALUE=DATE:20250821
DTSTAMP:20260425T140458
CREATED:20250123T091323Z
LAST-MODIFIED:20250123T091323Z
UID:10000060-1755648000-1755734399@www.southcliffgolfclub.com
SUMMARY:Extra Competition
DESCRIPTION:
URL:https://www.southcliffgolfclub.com/event/extra-competition-11/
END:VEVENT
BEGIN:VEVENT
DTSTART;VALUE=DATE:20250824
DTEND;VALUE=DATE:20250825
DTSTAMP:20260425T140458
CREATED:20250123T091344Z
LAST-MODIFIED:20250123T091344Z
UID:10000061-1755993600-1756079999@www.southcliffgolfclub.com
SUMMARY:Finals Day
DESCRIPTION:
URL:https://www.southcliffgolfclub.com/event/finals-day/
END:VEVENT
BEGIN:VEVENT
DTSTART;VALUE=DATE:20250825
DTEND;VALUE=DATE:20250826
DTSTAMP:20260425T140458
CREATED:20250123T091406Z
LAST-MODIFIED:20250123T091406Z
UID:10000062-1756080000-1756166399@www.southcliffgolfclub.com
SUMMARY:Social Golf
DESCRIPTION:
URL:https://www.southcliffgolfclub.com/event/social-golf-4/
END:VEVENT
BEGIN:VEVENT
DTSTART;VALUE=DATE:20250830
DTEND;VALUE=DATE:20250831
DTSTAMP:20260425T140458
CREATED:20250123T091430Z
LAST-MODIFIED:20250123T091430Z
UID:10000063-1756512000-1756598399@www.southcliffgolfclub.com
SUMMARY:Clutch Championship
DESCRIPTION:
URL:https://www.southcliffgolfclub.com/event/clutch-championship/
END:VEVENT
BEGIN:VEVENT
DTSTART;VALUE=DATE:20250831
DTEND;VALUE=DATE:20250901
DTSTAMP:20260425T140458
CREATED:20250123T091455Z
LAST-MODIFIED:20250123T091455Z
UID:10000064-1756598400-1756684799@www.southcliffgolfclub.com
SUMMARY:Scarborough Golf Week
DESCRIPTION:
URL:https://www.southcliffgolfclub.com/event/scarborough-golf-week/
END:VEVENT
END:VCALENDAR