BEGIN:VCALENDAR
VERSION:2.0
PRODID:-//Scarborough South Cliff Golf Club - ECPv6.15.18//NONSGML v1.0//EN
CALSCALE:GREGORIAN
METHOD:PUBLISH
X-WR-CALNAME:Scarborough South Cliff Golf Club
X-ORIGINAL-URL:https://www.southcliffgolfclub.com
X-WR-CALDESC:Events for Scarborough South Cliff Golf Club
REFRESH-INTERVAL;VALUE=DURATION:PT1H
X-Robots-Tag:noindex
X-PUBLISHED-TTL:PT1H
BEGIN:VTIMEZONE
TZID:UTC
BEGIN:STANDARD
TZOFFSETFROM:+0000
TZOFFSETTO:+0000
TZNAME:UTC
DTSTART:20240101T000000
END:STANDARD
END:VTIMEZONE
BEGIN:VEVENT
DTSTART;VALUE=DATE:20250427
DTEND;VALUE=DATE:20250428
DTSTAMP:20260421T140439
CREATED:20250123T084005Z
LAST-MODIFIED:20250123T084005Z
UID:10000013-1745712000-1745798399@www.southcliffgolfclub.com
SUMMARY:Casson Shield
DESCRIPTION:
URL:https://www.southcliffgolfclub.com/event/casson-shield/
END:VEVENT
BEGIN:VEVENT
DTSTART;VALUE=DATE:20250423
DTEND;VALUE=DATE:20250424
DTSTAMP:20260421T140439
CREATED:20250123T083940Z
LAST-MODIFIED:20250123T083940Z
UID:10000012-1745366400-1745452799@www.southcliffgolfclub.com
SUMMARY:April Medal
DESCRIPTION:
URL:https://www.southcliffgolfclub.com/event/april-medal/
END:VEVENT
BEGIN:VEVENT
DTSTART;VALUE=DATE:20250421
DTEND;VALUE=DATE:20250422
DTSTAMP:20260421T140439
CREATED:20250123T083919Z
LAST-MODIFIED:20250123T083919Z
UID:10000011-1745193600-1745279999@www.southcliffgolfclub.com
SUMMARY:Social Golf
DESCRIPTION:
URL:https://www.southcliffgolfclub.com/event/social-golf/
END:VEVENT
BEGIN:VEVENT
DTSTART;VALUE=DATE:20250419
DTEND;VALUE=DATE:20250420
DTSTAMP:20260421T140439
CREATED:20250123T083853Z
LAST-MODIFIED:20250123T083853Z
UID:10000010-1745020800-1745107199@www.southcliffgolfclub.com
SUMMARY:April Stableford
DESCRIPTION:
URL:https://www.southcliffgolfclub.com/event/april-stableford/
END:VEVENT
BEGIN:VEVENT
DTSTART;TZID=UTC:20250418T080000
DTEND;TZID=UTC:20250418T170000
DTSTAMP:20260421T140439
CREATED:20250123T083755Z
LAST-MODIFIED:20250123T083755Z
UID:10000009-1744963200-1744995600@www.southcliffgolfclub.com
SUMMARY:Extra Competition
DESCRIPTION:
URL:https://www.southcliffgolfclub.com/event/extra-competition-2/
END:VEVENT
BEGIN:VEVENT
DTSTART;TZID=UTC:20250408T080000
DTEND;TZID=UTC:20250408T170000
DTSTAMP:20260421T140439
CREATED:20250123T083728Z
LAST-MODIFIED:20250123T083728Z
UID:10000008-1744099200-1744131600@www.southcliffgolfclub.com
SUMMARY:Extra Competition
DESCRIPTION:
URL:https://www.southcliffgolfclub.com/event/extra-competition/
END:VEVENT
BEGIN:VEVENT
DTSTART;TZID=UTC:20250406T080000
DTEND;TZID=UTC:20250406T170000
DTSTAMP:20260421T140439
CREATED:20250123T083703Z
LAST-MODIFIED:20250123T083703Z
UID:10000007-1743926400-1743958800@www.southcliffgolfclub.com
SUMMARY:Captain's Drive-In
DESCRIPTION:
URL:https://www.southcliffgolfclub.com/event/captains-drive-in/
END:VEVENT
BEGIN:VEVENT
DTSTART;VALUE=DATE:20250322
DTEND;VALUE=DATE:20250323
DTSTAMP:20260421T140439
CREATED:20250123T083407Z
LAST-MODIFIED:20250123T083616Z
UID:10000006-1742601600-1742687999@www.southcliffgolfclub.com
SUMMARY:Winter Stableford
DESCRIPTION:
URL:https://www.southcliffgolfclub.com/event/winter-stableford-3/
END:VEVENT
BEGIN:VEVENT
DTSTART;VALUE=DATE:20250309
DTEND;VALUE=DATE:20250310
DTSTAMP:20260421T140439
CREATED:20250123T085546Z
LAST-MODIFIED:20250123T085546Z
UID:10000040-1741478400-1741564799@www.southcliffgolfclub.com
SUMMARY:Winter Stableford
DESCRIPTION:
URL:https://www.southcliffgolfclub.com/event/winter-stableford-4/
END:VEVENT
BEGIN:VEVENT
DTSTART;VALUE=DATE:20250223
DTEND;VALUE=DATE:20250224
DTSTAMP:20260421T140439
CREATED:20250123T083152Z
LAST-MODIFIED:20250123T083152Z
UID:10000005-1740268800-1740355199@www.southcliffgolfclub.com
SUMMARY:Winter Stableford
DESCRIPTION:
URL:https://www.southcliffgolfclub.com/event/winter-stableford-2/
END:VEVENT
BEGIN:VEVENT
DTSTART;TZID=UTC:20250214T080000
DTEND;TZID=UTC:20250214T170000
DTSTAMP:20260421T140439
CREATED:20250122T145132Z
LAST-MODIFIED:20250122T145132Z
UID:10000002-1739520000-1739552400@www.southcliffgolfclub.com
SUMMARY:Valentines Night Suppper
DESCRIPTION:Info to be confirmed
URL:https://www.southcliffgolfclub.com/event/valentines-night-suppper/
END:VEVENT
BEGIN:VEVENT
DTSTART;VALUE=DATE:20250208
DTEND;VALUE=DATE:20250209
DTSTAMP:20260421T140439
CREATED:20250123T083129Z
LAST-MODIFIED:20250123T083129Z
UID:10000004-1738972800-1739059199@www.southcliffgolfclub.com
SUMMARY:Winter Stableford
DESCRIPTION:
URL:https://www.southcliffgolfclub.com/event/winter-stableford/
END:VEVENT
BEGIN:VEVENT
DTSTART;TZID=UTC:20250126T080000
DTEND;TZID=UTC:20250126T170000
DTSTAMP:20260421T140439
CREATED:20250123T083002Z
LAST-MODIFIED:20250123T083002Z
UID:10000003-1737878400-1737910800@www.southcliffgolfclub.com
SUMMARY:Daily Mail Foursomes
DESCRIPTION:
URL:https://www.southcliffgolfclub.com/event/daily-mail-foursomes/
END:VEVENT
END:VCALENDAR